BEGIN:VCALENDAR
VERSION:2.0
PRODID:Events Booking
BEGIN:VEVENT
UID:69e5987b61d69
SUMMARY:Plakatieren für die Kommunalwahl 2025
DESCRIPTION:Hallo zusammen\,
 wie ihr hoffentlich alle wisst\, steht am 14
 . September die (für uns sehr wichtige) Kommunalwahl an. Dazu treffen wir
  uns am Sonntag\, den 03.08. zum Plakatieren. Losgehen wird es im Linken Z
 entrum (Augustastraße 69) um 10 Uhr mit einem gemütlichen Frühstück.

  Vor Ort wird es eine kleine Erklärung geben\, wie man die Plakate am bes
 ten aufhängt. Am besten ihr ladet euch schonmal die Aktivisti-App runter 
 (App Store/Play Store/Web). Dort könnt ihr dem Event beitreten. Im Zweife
 lsfall geht es aber auch ohne die App.
 Woran es in der Vergangenheit oft
  gefehlt hat\, sind Autos. Falls ihr also eins habt oder euch vorübergehe
 nd eins besorgen könnt\, meldet euch gerne bei mir (nimmerrichter@dielink
 e-aachen.de). Die anfallenden Kosten für Treibstoff oder Cambio-Miete kö
 nnen wir ersetzten. Auch immer ganz hilfreich sind Leitern und Seitenschne
 ider/Gartenscheren. Daran wird es aber nicht scheitern.
 Wir hoffen euch 
 zahlreich am Sonntag begrüßen zu können.
LOCATION:Augustastraße 69\, 52070 Aachen\, Deutschland
DTSTART:20250803T080000Z
DTEND:20250803T120000Z
DTSTAMP:20250728T184309Z
ORGANIZER;CN=DIE LINKE Aachen Veranstaltungen:MAILTO:veranstaltung@dielinke
 -aachen.de
GEO:50.773331;6.100851
X-APPLE-STRUCTURED-LOCATION;VALUE=URI;X-ADDRESS=Augustastraße 69\, 52070 A
 achen\, Deutschland;X-APPLE-RADIUS=72;X-TITLE=Linkes Zentrum:50.773331;6.1
 00851
END:VEVENT
END:VCALENDAR