BEGIN:VCALENDAR
VERSION:2.0
PRODID:Events Booking
BEGIN:VEVENT
UID:69e68a55a0606
SUMMARY:Gemeinsame Mitgliederversammlung KV Städteregion Aachen und KV Dü
 ren
DESCRIPTION:Mitgliederversammlung zur Wahl der Delegierten zum Bundespartei
 tag für die Jahre 2026 und 2027.
LOCATION:Dennewartstraße 17\, 52068 Aachen\, Deutschland
DTSTART:20260502T090000Z
DTEND:20260502T104500Z
DTSTAMP:20260420T062801Z
ORGANIZER;CN=DIE LINKE Aachen Veranstaltungen:MAILTO:veranstaltung@dielinke
 -aachen.de
GEO:50.780238;6.104093
X-APPLE-STRUCTURED-LOCATION;VALUE=URI;X-ADDRESS=Dennewartstraße 17\, 52068
  Aachen\, Deutschland;X-APPLE-RADIUS=72;X-TITLE=DGB-Haus Aachen:50.780238;
 6.104093
END:VEVENT
END:VCALENDAR