BEGIN:VCALENDAR
VERSION:2.0
PRODID:Events Booking
BEGIN:VEVENT
UID:69e68f4355758
SUMMARY:Mitgliederversammlung KV Städteregion Aachen
DESCRIPTION:Mitgliederversammlung zur Wahl der Delegierten zum Landespartei
 tag für die Jahre 2026 und 2027 und Nachwahlen zum Kreisvorstand.
LOCATION:Dennewartstraße 17\, 52068 Aachen\, Deutschland
DTSTART:20260502T110000Z
DTEND:20260502T140000Z
DTSTAMP:20260420T063853Z
ORGANIZER;CN=DIE LINKE Aachen Veranstaltungen:MAILTO:veranstaltung@dielinke
 -aachen.de
GEO:50.780238;6.104093
X-APPLE-STRUCTURED-LOCATION;VALUE=URI;X-ADDRESS=Dennewartstraße 17\, 52068
  Aachen\, Deutschland;X-APPLE-RADIUS=72;X-TITLE=DGB-Haus Aachen:50.780238;
 6.104093
END:VEVENT
END:VCALENDAR