BEGIN:VCALENDAR
VERSION:2.0
PRODID:Events Booking
BEGIN:VEVENT
UID:69e6ec7c09848
SUMMARY:Bundesparteitag in Potsdam
DESCRIPTION:Bundesparteitag mit Wahl des Parteivorstands
LOCATION:Großbeerenstraße 200\, Potsdam\, 14482 Brandenburg\, Deutschland
DTSTART:20260619T120000Z
DTEND:20260621T130000Z
DTSTAMP:20260420T065406Z
ORGANIZER;CN=DIE LINKE Aachen Veranstaltungen:MAILTO:veranstaltung@dielinke
 -aachen.de
GEO:52.384714;13.117639
X-APPLE-STRUCTURED-LOCATION;VALUE=URI;X-ADDRESS=Großbeerenstraße 200\, Po
 tsdam\, 14482 Brandenburg\, Deutschland;X-APPLE-RADIUS=72;X-TITLE=Metropol
 is-Halle:52.384714;13.117639
END:VEVENT
END:VCALENDAR