BEGIN:VCALENDAR
VERSION:2.0
PRODID:Events Booking
BEGIN:VEVENT
UID:69e6f2dd6cdef
SUMMARY:Landesparteitag zur Landtagswahl 2027
DESCRIPTION:Landesparteitag mit Beschluss über das Landtagswahlprogramm 20
 27
DTSTART:20260918T220000Z
DTEND:20260919T220000Z
DTSTAMP:20260420T071157Z
ORGANIZER;CN=DIE LINKE Aachen Veranstaltungen:MAILTO:veranstaltung@dielinke
 -aachen.de
END:VEVENT
END:VCALENDAR