BEGIN:VCALENDAR
VERSION:2.0
PRODID:Events Booking
BEGIN:VEVENT
UID:69e59553e945a
SUMMARY:Allgemeine Sozialberatung Eschweiler
DESCRIPTION:
LOCATION:  Dürener Straße 40 52249 Eschweiler
DTSTART:20250807T130000Z
DTEND:20250807T150000Z
DTSTAMP:20250801T144810Z
ORGANIZER;CN=DIE LINKE Aachen Veranstaltungen:MAILTO:veranstaltung@dielinke
 -aachen.de
GEO:50.820534;6.26991
X-APPLE-STRUCTURED-LOCATION;VALUE=URI;X-ADDRESS=  Dürener Straße 40 52249
  Eschweiler;X-APPLE-RADIUS=72;X-TITLE=SKM Eschweiler:50.820534;6.26991
END:VEVENT
END:VCALENDAR