BEGIN:VCALENDAR
VERSION:2.0
PRODID:Events Booking
BEGIN:VEVENT
UID:69e595538799d
SUMMARY:Allgemeine Sozialberatung Eschweiler
DESCRIPTION:
LOCATION:Dürener Str. 40\, 52249 Eschweiler\, Deutschland
DTSTART:20250821T130000Z
DTEND:20250821T150000Z
DTSTAMP:20250801T144847Z
ORGANIZER;CN=DIE LINKE Aachen Veranstaltungen:MAILTO:veranstaltung@dielinke
 -aachen.de
GEO:50.820534;6.26991
X-APPLE-STRUCTURED-LOCATION;VALUE=URI;X-ADDRESS=Dürener Str. 40\, 52249 Es
 chweiler\, Deutschland;X-APPLE-RADIUS=72;X-TITLE=SKM Eschweiler:50.820534;
 6.26991
END:VEVENT
END:VCALENDAR