BEGIN:VCALENDAR
VERSION:2.0
PRODID:Events Booking
BEGIN:VEVENT
UID:69e5952ec9b92
SUMMARY:Die Linke Wahlparty
DESCRIPTION:
LOCATION:Augustastraße 69\, 52070 Aachen\, Deutschland
DTSTART:20250914T160000Z
DTEND:20250914T215500Z
DTSTAMP:20250813T061436Z
ORGANIZER;CN=DIE LINKE Aachen Veranstaltungen:MAILTO:veranstaltung@dielinke
 -aachen.de
GEO:50.773331;6.100851
X-APPLE-STRUCTURED-LOCATION;VALUE=URI;X-ADDRESS=Augustastraße 69\, 52070 A
 achen\, Deutschland;X-APPLE-RADIUS=72;X-TITLE=Linkes Zentrum:50.773331;6.1
 00851
END:VEVENT
END:VCALENDAR