BEGIN:VCALENDAR
VERSION:2.0
PRODID:Events Booking
BEGIN:VEVENT
UID:69e6dd8ae9ec1
SUMMARY:Landtagswahl NRW
DESCRIPTION:Wahl des nordrhein-westfälischen Landtags
DTSTART:20270425T060000Z
DTEND:20270425T160000Z
DTSTAMP:20260420T072518Z
ORGANIZER;CN=DIE LINKE Aachen Veranstaltungen:MAILTO:veranstaltung@dielinke
 -aachen.de
END:VEVENT
END:VCALENDAR