BEGIN:VCALENDAR
VERSION:2.0
PRODID:Events Booking
BEGIN:VEVENT
UID:69e666b465876
SUMMARY:Castor Alarm! Aktionen gegen die Castor-Transporte
DESCRIPTION:Es verdichten sich die Hinweise: Nächste Woche soll der zweite
  Castor-Transport am Dienstag\, 21. April\, in Jülich starten und in der 
 Nacht zum Mittwoch in Ahaus ankommen.&nbsp\;
 &nbsp\;
DTSTART:20260421T160000Z
DTEND:20260422T040000Z
DTSTAMP:20260420T074804Z
ORGANIZER;CN=DIE LINKE Aachen Veranstaltungen:MAILTO:veranstaltung@dielinke
 -aachen.de
END:VEVENT
END:VCALENDAR