BEGIN:VCALENDAR
VERSION:2.0
PRODID:Events Booking
BEGIN:VEVENT
UID:69e7c0be4973e
SUMMARY:Israeli Apartheid Week: Children of Shatila
DESCRIPTION:
LOCATION:Augustastraße 69\, 52070 Aachen\, Deutschland
DTSTART:20260421T163000Z
DTEND:20260421T183000Z
DTSTAMP:20260421T053214Z
ORGANIZER;CN=DIE LINKE Aachen Veranstaltungen:MAILTO:veranstaltung@dielinke
 -aachen.de
GEO:50.773331;6.100851
X-APPLE-STRUCTURED-LOCATION;VALUE=URI;X-ADDRESS=Augustastraße 69\, 52070 A
 achen\, Deutschland;X-APPLE-RADIUS=72;X-TITLE=Linkes Zentrum:50.773331;6.1
 00851
END:VEVENT
END:VCALENDAR