BEGIN:VCALENDAR
VERSION:2.0
PRODID:Events Booking
BEGIN:VEVENT
UID:69e6cf0d9bb9f
SUMMARY:Sozialberatung
DESCRIPTION:Probleme mit dem Jobcenter\, dem Sozialamt oder der Wohngeldbeh
 örde? Ärger mit dem Vermieter? Die Linke hilft!
LOCATION:Augustastraße 69\, 52070 Aachen\, Deutschland
DTSTART:20260424T160000Z
DTEND:20260424T180000Z
DTSTAMP:20250322T205601Z
ORGANIZER;CN=DIE LINKE Aachen Veranstaltungen:MAILTO:veranstaltung@dielinke
 -aachen.de
GEO:50.773331;6.100851
X-APPLE-STRUCTURED-LOCATION;VALUE=URI;X-ADDRESS=Augustastraße 69\, 52070 A
 achen\, Deutschland;X-APPLE-RADIUS=72;X-TITLE=Linkes Zentrum:50.773331;6.1
 00851
END:VEVENT
BEGIN:VEVENT
UID:69e6cf0d9bcb1
SUMMARY:Sozialberatung
DESCRIPTION:Probleme mit dem Jobcenter\, dem Sozialamt oder der Wohngeldbeh
 örde? Ärger mit dem Vermieter? Die Linke hilft!
LOCATION:Augustastraße 69\, 52070 Aachen\, Deutschland
DTSTART:20260508T160000Z
DTEND:20260508T180000Z
DTSTAMP:20250322T205601Z
ORGANIZER;CN=DIE LINKE Aachen Veranstaltungen:MAILTO:veranstaltung@dielinke
 -aachen.de
GEO:50.773331;6.100851
X-APPLE-STRUCTURED-LOCATION;VALUE=URI;X-ADDRESS=Augustastraße 69\, 52070 A
 achen\, Deutschland;X-APPLE-RADIUS=72;X-TITLE=Linkes Zentrum:50.773331;6.1
 00851
END:VEVENT
BEGIN:VEVENT
UID:69e6cf0d9bcdc
SUMMARY:Sozialberatung
DESCRIPTION:Probleme mit dem Jobcenter\, dem Sozialamt oder der Wohngeldbeh
 örde? Ärger mit dem Vermieter? Die Linke hilft!
LOCATION:Augustastraße 69\, 52070 Aachen\, Deutschland
DTSTART:20260515T160000Z
DTEND:20260515T180000Z
DTSTAMP:20250322T205601Z
ORGANIZER;CN=DIE LINKE Aachen Veranstaltungen:MAILTO:veranstaltung@dielinke
 -aachen.de
GEO:50.773331;6.100851
X-APPLE-STRUCTURED-LOCATION;VALUE=URI;X-ADDRESS=Augustastraße 69\, 52070 A
 achen\, Deutschland;X-APPLE-RADIUS=72;X-TITLE=Linkes Zentrum:50.773331;6.1
 00851
END:VEVENT
BEGIN:VEVENT
UID:69e6cf0d9bcf8
SUMMARY:Sozialberatung
DESCRIPTION:Probleme mit dem Jobcenter\, dem Sozialamt oder der Wohngeldbeh
 örde? Ärger mit dem Vermieter? Die Linke hilft!
LOCATION:Augustastraße 69\, 52070 Aachen\, Deutschland
DTSTART:20260522T160000Z
DTEND:20260522T180000Z
DTSTAMP:20250322T205601Z
ORGANIZER;CN=DIE LINKE Aachen Veranstaltungen:MAILTO:veranstaltung@dielinke
 -aachen.de
GEO:50.773331;6.100851
X-APPLE-STRUCTURED-LOCATION;VALUE=URI;X-ADDRESS=Augustastraße 69\, 52070 A
 achen\, Deutschland;X-APPLE-RADIUS=72;X-TITLE=Linkes Zentrum:50.773331;6.1
 00851
END:VEVENT
BEGIN:VEVENT
UID:69e6cf0d9bd24
SUMMARY:Sozialberatung
DESCRIPTION:Probleme mit dem Jobcenter\, dem Sozialamt oder der Wohngeldbeh
 örde? Ärger mit dem Vermieter? Die Linke hilft!
LOCATION:Augustastraße 69\, 52070 Aachen\, Deutschland
DTSTART:20260529T160000Z
DTEND:20260529T180000Z
DTSTAMP:20250322T205601Z
ORGANIZER;CN=DIE LINKE Aachen Veranstaltungen:MAILTO:veranstaltung@dielinke
 -aachen.de
GEO:50.773331;6.100851
X-APPLE-STRUCTURED-LOCATION;VALUE=URI;X-ADDRESS=Augustastraße 69\, 52070 A
 achen\, Deutschland;X-APPLE-RADIUS=72;X-TITLE=Linkes Zentrum:50.773331;6.1
 00851
END:VEVENT
BEGIN:VEVENT
UID:69e6cf0d9bd3d
SUMMARY:Sozialberatung
DESCRIPTION:Probleme mit dem Jobcenter\, dem Sozialamt oder der Wohngeldbeh
 örde? Ärger mit dem Vermieter? Die Linke hilft!
LOCATION:Augustastraße 69\, 52070 Aachen\, Deutschland
DTSTART:20260605T160000Z
DTEND:20260605T180000Z
DTSTAMP:20250322T205601Z
ORGANIZER;CN=DIE LINKE Aachen Veranstaltungen:MAILTO:veranstaltung@dielinke
 -aachen.de
GEO:50.773331;6.100851
X-APPLE-STRUCTURED-LOCATION;VALUE=URI;X-ADDRESS=Augustastraße 69\, 52070 A
 achen\, Deutschland;X-APPLE-RADIUS=72;X-TITLE=Linkes Zentrum:50.773331;6.1
 00851
END:VEVENT
END:VCALENDAR